BEGIN:VCALENDAR
VERSION:2.0
PRODID:-//hacksw/handcal//NONSGML v1.0//EN
CALSCALE:GREGORIAN
BEGIN:VEVENT
UID:62
DTSTAMP:20260424T081200Z
DESCRIPTION:Please come join us for another great lunch outing at a little country cafe just off the airport property.  Airport services are top notch\, they will meet you as you arrive and have the fuel truck ready if you need or want fuel\, we always encourage a fuel purchase\, but it is not required.  We have had such a positive reaction to these lunch fly-ins we are doing it again.  This is a great opportunity to meet new members and some of us that have been around for a while.  Lunch is casual order from the menu or the buffet line.
DTSTART:20260517T160000Z
DTEND:20260517T190000Z
LOCATION:Lake City Gateway Airport\, Lake City Florida (KLCQ)
SUMMARY:Southeast Region Fly-In for Lunch Lake City Fl. (KLCQ)
URL;VALUE=URI:https://core.beechaeroclub.org/events/southeast-region-fly-in-for-lunch-lake-city-fl-klcq.62/
PARTICIPATION:NEEDS-ACTION
END:VEVENT
END:VCALENDAR