BEGIN:VCALENDAR
VERSION:2.0
PRODID:-//hacksw/handcal//NONSGML v1.0//EN
CALSCALE:GREGORIAN
BEGIN:VEVENT
UID:60
DTSTAMP:20260420T031958Z
DESCRIPTION:Join us for our annual ice cream social meet and greet to kick off the start of AirVenture 2026.  We will meet on the [B]North side[/B] of the [B]Vintage Aircraft Association’s Red Barn[/B] at 1:00pm CDT.  About 1:30pm CDT after exchanging pleasantries we will walk over to one the A&W Root Beer stands.  This one is located along the flight line.  It is listed as [B]A&W – Classic Concession (L-12).[/B]  They serve ice cream cones or if you prefer in a dish. It has worked out well for us the last few years.

Please reply to this thread if you are planning to attend so we will be on the lookout for you.  Looking forward to seeing you all there.
DTSTART:20260720T180000Z
DTEND:20260720T193000Z
LOCATION:Oshkosh\, WI (KOSH)
SUMMARY:Ice Cream Social at AirVenture Oshkosh - Oshkosh\, WI (KOSH) - Monday - July 20\, 2026
URL;VALUE=URI:https://core.beechaeroclub.org/events/ice-cream-social-at-airventure-oshkosh-oshkosh-wi-kosh-monday-july-20-2026.60/
PARTICIPATION:NEEDS-ACTION
END:VEVENT
END:VCALENDAR