BEGIN:VCALENDAR
VERSION:2.0
PRODID:-//hacksw/handcal//NONSGML v1.0//EN
CALSCALE:GREGORIAN
BEGIN:VEVENT
UID:61
DTSTAMP:20260420T033855Z
DESCRIPTION:Join us for our annual picnic at EAA AirVenture Oshkosh.  Just like the past couple of years\, we plan to be at the Sacred Heart Brat Stand just outside of the EAA grounds.  This has turned out to be a successful change in venue.  It is located immediately South of the Bus Park along Forest Home Ave. G-11 on the EAA map.  I usually eat there for lunch.  It goes to a good cause\, and they are reasonably priced.  I will meet with them on Monday 7/20 to make final arrangements and note any changes in the menu.

Plan on 11:00am CDT to meet at the concession to get ahead of the lunch crowd.  I will post updates if there are any changes.

Please reply to the thread if you are planning to attend.  [B]If you have a chair\, bring it with you just in case.[/B]
DTSTART:20260723T160000Z
DTEND:20260723T180000Z
LOCATION:Oshkosh\, WI (KOSH)
SUMMARY:BAC Picnic at EAA AirVenture Oshkosh - Oshkosh\, WI (KOSH) - Thursday - July 23\, 2026
URL;VALUE=URI:https://core.beechaeroclub.org/events/bac-picnic-at-eaa-airventure-oshkosh-oshkosh-wi-kosh-thursday-july-23-2026.61/
PARTICIPATION:NEEDS-ACTION
END:VEVENT
END:VCALENDAR